BEGIN:VCALENDAR
VERSION:2.0
PRODID:-// - ECPv6.2.4//NONSGML v1.0//EN
CALSCALE:GREGORIAN
METHOD:PUBLISH
X-ORIGINAL-URL:https://fatiasdeca.pt
X-WR-CALDESC:Eventos para 
REFRESH-INTERVAL;VALUE=DURATION:PT1H
X-Robots-Tag:noindex
X-PUBLISHED-TTL:PT1H
BEGIN:VTIMEZONE
TZID:UTC
BEGIN:STANDARD
TZOFFSETFROM:+0000
TZOFFSETTO:+0000
TZNAME:UTC
DTSTART:20240101T000000
END:STANDARD
END:VTIMEZONE
BEGIN:VEVENT
DTSTART;TZID=UTC:20250213T212100
DTEND;TZID=UTC:20250213T222200
DTSTAMP:20260420T170248
CREATED:20250122T132349Z
LAST-MODIFIED:20250122T133638Z
UID:10000234-1739481660-1739485320@fatiasdeca.pt
SUMMARY:Thomaridade (Tomar)
DESCRIPTION:de Carlos Carvalheiro. \nNo Salão Nobre da Câmara Municipal de Tomar\, integrado na Comemoração da elevação de Tomar a cidade. \nEntrada livre\, sujeito à lotação da sala
URL:https://fatiasdeca.pt/peca/thomaridade-tomar/
LOCATION:Distilaria da Brogueira\, Torres Novas\, Rua dos Outeiros\, Brogueira\, Torres Novas\, 2350-052\, Portugal
ATTACH;FMTTYPE=image/png:https://fatiasdeca.pt/wp-content/uploads/2025/01/Thomaridade-1.png
END:VEVENT
BEGIN:VEVENT
DTSTART;TZID=UTC:20241208T161600
DTEND;TZID=UTC:20241208T181800
DTSTAMP:20260420T170248
CREATED:20240903T140404Z
LAST-MODIFIED:20240906T092450Z
UID:10000197-1733674560-1733681880@fatiasdeca.pt
SUMMARY:A Encomendação das Almas (Torres Novas)
DESCRIPTION:A partir do romance de João Aguiar\, versão Carlos Carvalheiro\n \nNa Distilaria da Brogueira\, Torres Novas\, com frango assado incluído.\n \n\n\n\n\n\n\n\n\nComprar bilhetes
URL:https://fatiasdeca.pt/peca/a-encomendacao-das-almas-torres-novas-2/2024-12-08/
LOCATION:Distilaria da Brogueira\, Torres Novas\, Rua dos Outeiros\, Brogueira\, Torres Novas\, 2350-052\, Portugal
ATTACH;FMTTYPE=image/jpeg:https://fatiasdeca.pt/wp-content/uploads/2023/03/51-Imagem-Cartaz-3-1.jpg
END:VEVENT
BEGIN:VEVENT
DTSTART;TZID=UTC:20241103T161600
DTEND;TZID=UTC:20241103T181800
DTSTAMP:20260420T170248
CREATED:20240903T140404Z
LAST-MODIFIED:20240906T092450Z
UID:10000196-1730650560-1730657880@fatiasdeca.pt
SUMMARY:A Encomendação das Almas (Torres Novas)
DESCRIPTION:A partir do romance de João Aguiar\, versão Carlos Carvalheiro\n \nNa Distilaria da Brogueira\, Torres Novas\, com frango assado incluído.\n \n\n\n\n\n\n\n\n\nComprar bilhetes
URL:https://fatiasdeca.pt/peca/a-encomendacao-das-almas-torres-novas-2/2024-11-03/
LOCATION:Distilaria da Brogueira\, Torres Novas\, Rua dos Outeiros\, Brogueira\, Torres Novas\, 2350-052\, Portugal
ATTACH;FMTTYPE=image/jpeg:https://fatiasdeca.pt/wp-content/uploads/2023/03/51-Imagem-Cartaz-3-1.jpg
END:VEVENT
END:VCALENDAR