BEGIN:VCALENDAR
VERSION:2.0
PRODID:-// - ECPv6.2.4//NONSGML v1.0//EN
CALSCALE:GREGORIAN
METHOD:PUBLISH
X-ORIGINAL-URL:https://fatiasdeca.pt
X-WR-CALDESC:Eventos para 
REFRESH-INTERVAL;VALUE=DURATION:PT1H
X-Robots-Tag:noindex
X-PUBLISHED-TTL:PT1H
BEGIN:VTIMEZONE
TZID:UTC
BEGIN:STANDARD
TZOFFSETFROM:+0000
TZOFFSETTO:+0000
TZNAME:UTC
DTSTART:20240101T000000
END:STANDARD
END:VTIMEZONE
BEGIN:VEVENT
DTSTART;TZID=UTC:20240714T181800
DTEND;TZID=UTC:20240714T191900
DTSTAMP:20260420T041511
CREATED:20240623T164419Z
LAST-MODIFIED:20240623T170350Z
UID:10000180-1720981080-1720984740@fatiasdeca.pt
SUMMARY:A Divisa de Thomar (Tomar)
DESCRIPTION:de Carlos Carvalheiro\, em diversos locais em Tomar. \n\n\n\n \n\n\n\n11 e 12 julho (sujeito à compra de bilhete) \n\n\n\nMomentos da história de Tomar que influenciaram a História de Portugal. \n\n\n\n1ª sessão: início às 20h:00 2ª sessão: início às 20h:20 3ª sessão: início às 20h:40 4ª sessão: início às 21h:00;5ª sessão: início às 21h:20;6ª sessão: início às 21h:40;7ª sessão: início às 22h:00. \n\n\n\n \n\n\n\n14 de julho (entrada gratuita\, mas sujeita a obtenção de bilhete) \n\n\n\nMetáfora da “fabricação” de uma festa de tabuleiros por Isabel de Aragão e Joane\, o Parvo. \n\n\n\n \n\n\n\nBilhetes: Posto de Turismo de Tomar; 249 329 823; festatemplaria@cm-tomar.pt \n\n\n\n \n\n\n\n \n\n\n\n\n\n\nSinopse completa
URL:https://fatiasdeca.pt/peca/a-divisa-de-thomar-tomar/2024-07-14/
LOCATION:Hotel do Parque\, Miranda do Corvo\, Portugal
ATTACH;FMTTYPE=image/jpeg:https://fatiasdeca.pt/wp-content/uploads/2024/06/cartaz-68-scaled.jpg
END:VEVENT
BEGIN:VEVENT
DTSTART;TZID=UTC:20240712T200000
DTEND;TZID=UTC:20240712T235900
DTSTAMP:20260420T041511
CREATED:20240623T164419Z
LAST-MODIFIED:20240623T170350Z
UID:10000181-1720814400-1720828740@fatiasdeca.pt
SUMMARY:A Divisa de Thomar (Tomar)
DESCRIPTION:de Carlos Carvalheiro\, em diversos locais em Tomar. \n\n\n\n \n\n\n\n11 e 12 julho (sujeito à compra de bilhete) \n\n\n\nMomentos da história de Tomar que influenciaram a História de Portugal. \n\n\n\n1ª sessão: início às 20h:00 2ª sessão: início às 20h:20 3ª sessão: início às 20h:40 4ª sessão: início às 21h:00;5ª sessão: início às 21h:20;6ª sessão: início às 21h:40;7ª sessão: início às 22h:00. \n\n\n\n \n\n\n\n14 de julho (entrada gratuita\, mas sujeita a obtenção de bilhete) \n\n\n\nMetáfora da “fabricação” de uma festa de tabuleiros por Isabel de Aragão e Joane\, o Parvo. \n\n\n\n \n\n\n\nBilhetes: Posto de Turismo de Tomar; 249 329 823; festatemplaria@cm-tomar.pt \n\n\n\n \n\n\n\n \n\n\n\n\n\n\nSinopse completa
URL:https://fatiasdeca.pt/peca/a-divisa-de-thomar-tomar/2024-07-12/
LOCATION:Hotel do Parque\, Miranda do Corvo\, Portugal
ATTACH;FMTTYPE=image/jpeg:https://fatiasdeca.pt/wp-content/uploads/2024/06/cartaz-68-scaled.jpg
END:VEVENT
BEGIN:VEVENT
DTSTART;TZID=UTC:20240711T200000
DTEND;TZID=UTC:20240711T235900
DTSTAMP:20260420T041511
CREATED:20240623T164419Z
LAST-MODIFIED:20240623T170350Z
UID:10000179-1720728000-1720742340@fatiasdeca.pt
SUMMARY:A Divisa de Thomar (Tomar)
DESCRIPTION:de Carlos Carvalheiro\, em diversos locais em Tomar. \n\n\n\n \n\n\n\n11 e 12 julho (sujeito à compra de bilhete) \n\n\n\nMomentos da história de Tomar que influenciaram a História de Portugal. \n\n\n\n1ª sessão: início às 20h:00 2ª sessão: início às 20h:20 3ª sessão: início às 20h:40 4ª sessão: início às 21h:00;5ª sessão: início às 21h:20;6ª sessão: início às 21h:40;7ª sessão: início às 22h:00. \n\n\n\n \n\n\n\n14 de julho (entrada gratuita\, mas sujeita a obtenção de bilhete) \n\n\n\nMetáfora da “fabricação” de uma festa de tabuleiros por Isabel de Aragão e Joane\, o Parvo. \n\n\n\n \n\n\n\nBilhetes: Posto de Turismo de Tomar; 249 329 823; festatemplaria@cm-tomar.pt \n\n\n\n \n\n\n\n \n\n\n\n\n\n\nSinopse completa
URL:https://fatiasdeca.pt/peca/a-divisa-de-thomar-tomar/2024-07-11/
LOCATION:Hotel do Parque\, Miranda do Corvo\, Portugal
ATTACH;FMTTYPE=image/jpeg:https://fatiasdeca.pt/wp-content/uploads/2024/06/cartaz-68-scaled.jpg
END:VEVENT
BEGIN:VEVENT
DTSTART;TZID=UTC:20240322T202000
DTEND;TZID=UTC:20240322T223000
DTSTAMP:20260420T041511
CREATED:20240306T104000Z
LAST-MODIFIED:20240306T113052Z
UID:10000153-1711138800-1711146600@fatiasdeca.pt
SUMMARY:Jantar de Excelência (Miranda do Corvo)
DESCRIPTION:No Hotel do Parque\, em Miranda do Corvo. \n\n\n \n\n\n\n\n\n\n\n\n\n\nComprar bilhetes
URL:https://fatiasdeca.pt/peca/jantar-de-excelencia/
LOCATION:Hotel do Parque\, Miranda do Corvo\, Portugal
ATTACH;FMTTYPE=image/webp:https://fatiasdeca.pt/wp-content/uploads/2023/01/63._Cartaz-1.webp
END:VEVENT
END:VCALENDAR