BEGIN:VCALENDAR
VERSION:2.0
PRODID:-// - ECPv6.2.4//NONSGML v1.0//EN
CALSCALE:GREGORIAN
METHOD:PUBLISH
X-ORIGINAL-URL:https://fatiasdeca.pt
X-WR-CALDESC:Eventos para 
REFRESH-INTERVAL;VALUE=DURATION:PT1H
X-Robots-Tag:noindex
X-PUBLISHED-TTL:PT1H
BEGIN:VTIMEZONE
TZID:UTC
BEGIN:STANDARD
TZOFFSETFROM:+0000
TZOFFSETTO:+0000
TZNAME:UTC
DTSTART:20240101T000000
END:STANDARD
END:VTIMEZONE
BEGIN:VEVENT
DTSTART;TZID=UTC:20240322T202000
DTEND;TZID=UTC:20240322T223000
DTSTAMP:20260420T095050
CREATED:20240306T104000Z
LAST-MODIFIED:20240306T113052Z
UID:10000153-1711138800-1711146600@fatiasdeca.pt
SUMMARY:Jantar de Excelência (Miranda do Corvo)
DESCRIPTION:No Hotel do Parque\, em Miranda do Corvo. \n\n\n \n\n\n\n\n\n\n\n\n\n\nComprar bilhetes
URL:https://fatiasdeca.pt/peca/jantar-de-excelencia/
LOCATION:Hotel do Parque\, Miranda do Corvo\, Portugal
ATTACH;FMTTYPE=image/webp:https://fatiasdeca.pt/wp-content/uploads/2023/01/63._Cartaz-1.webp
END:VEVENT
END:VCALENDAR