BEGIN:VCALENDAR
VERSION:2.0
PRODID:-// - ECPv6.2.4//NONSGML v1.0//EN
CALSCALE:GREGORIAN
METHOD:PUBLISH
X-ORIGINAL-URL:https://fatiasdeca.pt
X-WR-CALDESC:Eventos para 
REFRESH-INTERVAL;VALUE=DURATION:PT1H
X-Robots-Tag:noindex
X-PUBLISHED-TTL:PT1H
BEGIN:VTIMEZONE
TZID:UTC
BEGIN:STANDARD
TZOFFSETFROM:+0000
TZOFFSETTO:+0000
TZNAME:UTC
DTSTART:20240101T000000
END:STANDARD
END:VTIMEZONE
BEGIN:VEVENT
DTSTART;TZID=UTC:20241102T191900
DTEND;TZID=UTC:20241102T212100
DTSTAMP:20260423T143717
CREATED:20240908T171722Z
LAST-MODIFIED:20241027T214102Z
UID:10000215-1730575140-1730582460@fatiasdeca.pt
SUMMARY:Inês de Portugal (Coimbra)
DESCRIPTION: \nA partir do romance de João Aguiar\, versão Carlos Carvalheiro.\n \nNo Mosteiro Santa-Clara-a-Velha\, em Coimbra. Jantar incluído.\n \n\n\n \n\n\n\n\n\n\n\n\nComprar bilhetes
URL:https://fatiasdeca.pt/peca/ines-de-portugal-coimbra-3/2024-11-02/
LOCATION:Hotel do Parque\, Miranda do Corvo\, Portugal
ATTACH;FMTTYPE=image/jpeg:https://fatiasdeca.pt/wp-content/uploads/2023/02/37.-Cartaz-scaled.jpg
END:VEVENT
BEGIN:VEVENT
DTSTART;TZID=UTC:20241103T161600
DTEND;TZID=UTC:20241103T181800
DTSTAMP:20260423T143717
CREATED:20240903T140404Z
LAST-MODIFIED:20240906T092450Z
UID:10000196-1730650560-1730657880@fatiasdeca.pt
SUMMARY:A Encomendação das Almas (Torres Novas)
DESCRIPTION:A partir do romance de João Aguiar\, versão Carlos Carvalheiro\n \nNa Distilaria da Brogueira\, Torres Novas\, com frango assado incluído.\n \n\n\n\n\n\n\n\n\nComprar bilhetes
URL:https://fatiasdeca.pt/peca/a-encomendacao-das-almas-torres-novas-2/2024-11-03/
LOCATION:Distilaria da Brogueira\, Torres Novas\, Rua dos Outeiros\, Brogueira\, Torres Novas\, 2350-052\, Portugal
ATTACH;FMTTYPE=image/jpeg:https://fatiasdeca.pt/wp-content/uploads/2023/03/51-Imagem-Cartaz-3-1.jpg
END:VEVENT
BEGIN:VEVENT
DTSTART;TZID=UTC:20241110T161600
DTEND;TZID=UTC:20241110T181800
DTSTAMP:20260423T143717
CREATED:20231214T113349Z
LAST-MODIFIED:20251227T112330Z
UID:10000202-1731255360-1731262680@fatiasdeca.pt
SUMMARY:A Missão (Coimbra)
DESCRIPTION: \n\nA partir da novela de Ferreira de Castro\, versão Carlos Carvalheiro\n \nNo Mosteiro de Celas\, Coimbra. Inclui merenda conventual.\n\n\n\n\n\n\n\n\n\n\nComprar bilhetes
URL:https://fatiasdeca.pt/peca/a-missao-coimbra/2024-11-10/
LOCATION:Mosteiro de Celas\, R. Manso Preto 23\,\, Coimbra\, 3000-256\, Portugal
ATTACH;FMTTYPE=image/webp:https://fatiasdeca.pt/wp-content/uploads/2023/01/64_Cartaz-e1702552092559.webp
END:VEVENT
END:VCALENDAR