BEGIN:VCALENDAR
VERSION:2.0
PRODID:-// - ECPv6.2.4//NONSGML v1.0//EN
CALSCALE:GREGORIAN
METHOD:PUBLISH
X-ORIGINAL-URL:https://fatiasdeca.pt
X-WR-CALDESC:Eventos para 
REFRESH-INTERVAL;VALUE=DURATION:PT1H
X-Robots-Tag:noindex
X-PUBLISHED-TTL:PT1H
BEGIN:VTIMEZONE
TZID:UTC
BEGIN:STANDARD
TZOFFSETFROM:+0000
TZOFFSETTO:+0000
TZNAME:UTC
DTSTART:20230101T000000
END:STANDARD
END:VTIMEZONE
BEGIN:VEVENT
DTSTART;TZID=UTC:20230406T202000
DTEND;TZID=UTC:20230406T225000
DTSTAMP:20260424T171403
CREATED:20230224T204640Z
LAST-MODIFIED:20230907T145445Z
UID:10000059-1680812400-1680821400@fatiasdeca.pt
SUMMARY:Sim\, senhor Primeiro Ministro (Lisboa)
DESCRIPTION:Versão de Carlos Carvalheiro a exemplo de Yes\, Minister \n\n\n\n\n\n\n\nCOMPRAR BILHETES
URL:https://fatiasdeca.pt/peca/sim-senhor-primeiro-ministro-lisboa-2/
LOCATION:Lisboa\, Casa de Goa\, Calçada Livramento 17\, Lisboa\, Lisboa\, 1350-188\, Portugal
ATTACH;FMTTYPE=image/webp:https://fatiasdeca.pt/wp-content/uploads/2023/01/67._Cartaz-1.webp
END:VEVENT
END:VCALENDAR